BEGIN:VCALENDAR
VERSION:2.0
PRODID:-//eventon.com NONSGML v1.0//EN
CALSCALE:GREGORIAN
METHOD:PUBLISH
BEGIN:VEVENT
UID:69e5892b2330e
DTSTAMP:20260420T020219Z
DTSTART:20260530
DTEND:20260531
LOCATION:
SUMMARY:Bergrennen/Slalom Fell/Thomm
DESCRIPTION:\nhttps://mtc-erbeskopf.de/events/bergrennen-slalom-fell-thomm/
URL:https://mtc-erbeskopf.de/events/bergrennen-slalom-fell-thomm/
END:VEVENT
END:VCALENDAR