BEGIN:VCALENDAR
VERSION:2.0
PRODID:-//eventon.com NONSGML v1.0//EN
CALSCALE:GREGORIAN
METHOD:PUBLISH
BEGIN:VEVENT
UID:69e58b9245ef2
DTSTAMP:20260420T021234Z
DTSTART:20260719
DTEND:20260720
LOCATION:
SUMMARY:40. Int. Konzer Old- und Youngtimertreffen
DESCRIPTION:\nhttps://mtc-erbeskopf.de/events/40-int-konzer-old-und-youngti
 mertreffen/
URL:https://mtc-erbeskopf.de/events/40-int-konzer-old-und-youngtimertreffen/
END:VEVENT
END:VCALENDAR