BEGIN:VCALENDAR
VERSION:2.0
PRODID:-//eventon.com NONSGML v1.0//EN
CALSCALE:GREGORIAN
METHOD:PUBLISH
BEGIN:VEVENT
UID:69e8954e05ba8
DTSTAMP:20260422T093054Z
DTSTART:20260911
DTEND:20260912
LOCATION:
SUMMARY:Oldtimertreffen in Hillesheim
DESCRIPTION:\nhttps://mtc-erbeskopf.de/events/oldtimertreffen-in-hillesheim
 /
URL:https://mtc-erbeskopf.de/events/oldtimertreffen-in-hillesheim/
END:VEVENT
END:VCALENDAR