BEGIN:VCALENDAR
VERSION:2.0
PRODID:-//eventon.com NONSGML v1.0//EN
CALSCALE:GREGORIAN
METHOD:PUBLISH
BEGIN:VEVENT
UID:69e58babcb31c
DTSTAMP:20260420T021259Z
DTSTART:20260614
DTEND:20260615
LOCATION:
SUMMARY:1. Baumholder Classics
DESCRIPTION:\nhttps://mtc-erbeskopf.de/events/1-baumholder-classics-2/
URL:https://mtc-erbeskopf.de/events/1-baumholder-classics-2/
END:VEVENT
END:VCALENDAR