BEGIN:VCALENDAR
VERSION:2.0
PRODID:-//eventon.com NONSGML v1.0//EN
CALSCALE:GREGORIAN
METHOD:PUBLISH
BEGIN:VEVENT
UID:69e58bdf7c493
DTSTAMP:20260420T021351Z
DTSTART:20261011
DTEND:20261012
LOCATION:
SUMMARY:13. Kartoffelfest & Oldtimertreffen in Roscheid
DESCRIPTION:\nhttps://mtc-erbeskopf.de/events/13-kartoffelfest-oldtimertref
 fen-in-roscheid/
URL:https://mtc-erbeskopf.de/events/13-kartoffelfest-oldtimertreffen-in-roscheid/
END:VEVENT
END:VCALENDAR