BEGIN:VCALENDAR
VERSION:2.0
PRODID:-//eventon.com NONSGML v1.0//EN
CALSCALE:GREGORIAN
METHOD:PUBLISH
BEGIN:VEVENT
UID:69e58be060737
DTSTAMP:20260420T021352Z
DTSTART:20260807
DTEND:20260808
LOCATION:
SUMMARY:53. Belmot Oldtimer GrandPrix
DESCRIPTION:\nhttps://mtc-erbeskopf.de/events/53-belmot-oldtimer-grandprix/
URL:https://mtc-erbeskopf.de/events/53-belmot-oldtimer-grandprix/
END:VEVENT
END:VCALENDAR