BEGIN:VCALENDAR
VERSION:2.0
PRODID:-//eventon.com NONSGML v1.0//EN
CALSCALE:GREGORIAN
METHOD:PUBLISH
BEGIN:VEVENT
UID:69e58babaada1
DTSTAMP:20260420T021259Z
DTSTART:20260705
DTEND:20260706
LOCATION:
SUMMARY:Internationales Oldtimertreffen im Herzen von Saarlouis
DESCRIPTION:5. Juli 2026 Großer Markt Saarlouis Das Oldtimertreffen findet
  zwischen 9:00 Uhr und 18:00 Uhr statt. Vorabreservierung für 2026 ist ber
 eits geöffnet Das Nenngeld für die Zufahrt beträgt 10\, - € / Fahrzeug
  PRO TAG.  Als Gegenwert erhält jeder Teilnehmer Andenkenschild Getränke
 bon Aufkleber für Fahrzeug Magazin zur Veranstaltung Zufahrt wird auch[..]
 \nhttps://mtc-erbeskopf.de/events/internationales-oldtimertreffen-im-herzen
 -von-saarlouis/
URL:https://mtc-erbeskopf.de/events/internationales-oldtimertreffen-im-herzen-von-saarlouis/
END:VEVENT
END:VCALENDAR