BEGIN:VCALENDAR
VERSION:2.0
PRODID:-//eventon.com NONSGML v1.0//EN
CALSCALE:GREGORIAN
METHOD:PUBLISH
BEGIN:VEVENT
UID:69e897dbb4fe3
DTSTAMP:20260422T094147Z
DTSTART:20260426
DTEND:20260427
LOCATION:
SUMMARY:7. Oldtimertreffen Heusweiler
DESCRIPTION:am Globus Baumarkt in Heusweiler. https://amc-heusweiler.jimdof
 ree.com/oldtimer/\nhttps://mtc-erbeskopf.de/events/7-oldtimertreffen-heuswe
 iler/
URL:https://mtc-erbeskopf.de/events/7-oldtimertreffen-heusweiler/
END:VEVENT
END:VCALENDAR