BEGIN:VCALENDAR
VERSION:2.0
PRODID:-//eventon.com NONSGML v1.0//EN
CALSCALE:GREGORIAN
METHOD:PUBLISH
BEGIN:VEVENT
UID:69e8970c008cd
DTSTAMP:20260422T093820Z
DTSTART:20260612
DTEND:20260613
LOCATION:
SUMMARY:ADAC Nürburgring Classic
DESCRIPTION:\nhttps://mtc-erbeskopf.de/events/adac-nuerburgring-classic/
URL:https://mtc-erbeskopf.de/events/adac-nuerburgring-classic/
END:VEVENT
END:VCALENDAR