BEGIN:VCALENDAR
VERSION:2.0
PRODID:-//eventon.com NONSGML v1.0//EN
CALSCALE:GREGORIAN
METHOD:PUBLISH
BEGIN:VEVENT
UID:69e896f74e87c
DTSTAMP:20260422T093759Z
DTSTART:20261203T190000Z
DTEND:20261203T220000Z
LOCATION:
SUMMARY:MTC Clubabend
DESCRIPTION:Clubabend des MTC Thalfang am Erbeskopf im Landgasthof Rauland.
 \nhttps://mtc-erbeskopf.de/events/mtc-clubabend-dez/
URL:https://mtc-erbeskopf.de/events/mtc-clubabend-dez/
END:VEVENT
END:VCALENDAR