BEGIN:VCALENDAR
VERSION:2.0
PRODID:-//eventon.com NONSGML v1.0//EN
CALSCALE:GREGORIAN
METHOD:PUBLISH
BEGIN:VEVENT
UID:69e58b9151948
DTSTAMP:20260420T021233Z
DTSTART:20261106T190000Z
DTEND:20261106T220000Z
LOCATION:
SUMMARY:MTC Clubabend
DESCRIPTION:Clubabend des MTC Thalfang am Erbeskopf im Landgasthof Rauland.
 \nhttps://mtc-erbeskopf.de/events/mtc-clubabend-nov/
URL:https://mtc-erbeskopf.de/events/mtc-clubabend-nov/
END:VEVENT
END:VCALENDAR