BEGIN:VCALENDAR
VERSION:2.0
PRODID:-//eventon.com NONSGML v1.0//EN
CALSCALE:GREGORIAN
METHOD:PUBLISH
BEGIN:VEVENT
UID:69e58bdabd6c3
DTSTAMP:20260420T021346Z
DTSTART:20260703T180000Z
DTEND:20260703T210000Z
LOCATION:
SUMMARY:MTC Clubabend
DESCRIPTION:Clubabend des MTC Thalfang am Erbeskopf im Landgasthof Rauland.
 \nhttps://mtc-erbeskopf.de/events/mtc-clubabend-14/
URL:https://mtc-erbeskopf.de/events/mtc-clubabend-14/
END:VEVENT
END:VCALENDAR