BEGIN:VCALENDAR
VERSION:2.0
PRODID:-//eventon.com NONSGML v1.0//EN
CALSCALE:GREGORIAN
METHOD:PUBLISH
BEGIN:VEVENT
UID:69e8975aa6a25
DTSTAMP:20260422T093938Z
DTSTART:20260605T180000Z
DTEND:20260605T210000Z
LOCATION:
SUMMARY:MTC Clubabend
DESCRIPTION:Clubabend des MTC Thalfang am Erbeskopf im Landgasthof Rauland.
 \nhttps://mtc-erbeskopf.de/events/mtc-clubabend-jun/
URL:https://mtc-erbeskopf.de/events/mtc-clubabend-jun/
END:VEVENT
END:VCALENDAR