BEGIN:VCALENDAR
VERSION:2.0
PRODID:-//eventon.com NONSGML v1.0//EN
CALSCALE:GREGORIAN
METHOD:PUBLISH
BEGIN:VEVENT
UID:69e894a4f2158
DTSTAMP:20260422T092804Z
DTSTART:20260508T180000Z
DTEND:20260508T210000Z
LOCATION:
SUMMARY:MTC Clubabend
DESCRIPTION:Clubabend des MTC Thalfang am Erbeskopf im Landgasthof Rauland.
 \nhttps://mtc-erbeskopf.de/events/mtc-clubabend-mai/
URL:https://mtc-erbeskopf.de/events/mtc-clubabend-mai/
END:VEVENT
END:VCALENDAR