BEGIN:VCALENDAR
VERSION:2.0
PRODID:-//eventon.com NONSGML v1.0//EN
CALSCALE:GREGORIAN
METHOD:PUBLISH
BEGIN:VEVENT
UID:69e5892aada74
DTSTAMP:20260420T020218Z
DTSTART:20260517T080000Z
DTEND:20260517T150000Z
LOCATION:
SUMMARY:2. Trierer Oldtimer-Treffen
DESCRIPTION:\nhttps://mtc-erbeskopf.de/events/2-trierer-oldtimer-treffen/
URL:https://mtc-erbeskopf.de/events/2-trierer-oldtimer-treffen/
END:VEVENT
END:VCALENDAR