BEGIN:VCALENDAR
VERSION:2.0
PRODID:-//eventon.com NONSGML v1.0//EN
CALSCALE:GREGORIAN
METHOD:PUBLISH
BEGIN:VEVENT
UID:69e58bd8c8523
DTSTAMP:20260420T021344Z
DTSTART:20260730
DTEND:20260731
LOCATION:
SUMMARY:Quattro Classic Neustadt (Wied)
DESCRIPTION:\nhttps://mtc-erbeskopf.de/events/quattro-classic-neustadt-wied
 /
URL:https://mtc-erbeskopf.de/events/quattro-classic-neustadt-wied/
END:VEVENT
END:VCALENDAR