BEGIN:VCALENDAR
VERSION:2.0
PRODID:-//eventon.com NONSGML v1.0//EN
CALSCALE:GREGORIAN
METHOD:PUBLISH
BEGIN:VEVENT
UID:69e58c102fb6a
DTSTAMP:20260420T021440Z
DTSTART:20261002T150000Z
DTEND:20261002T175700Z
LOCATION:
SUMMARY:Kues Cruise Night Saisonabschluss
DESCRIPTION:Beim Zylinderhaus in Bernkastel Kues. Jeden 1. Freitag im Monat
 \nhttps://mtc-erbeskopf.de/events/kues-cruise-night-saisonabschluss/
URL:https://mtc-erbeskopf.de/events/kues-cruise-night-saisonabschluss/
END:VEVENT
END:VCALENDAR