BEGIN:VCALENDAR
VERSION:2.0
PRODID:-//eventon.com NONSGML v1.0//EN
CALSCALE:GREGORIAN
METHOD:PUBLISH
BEGIN:VEVENT
UID:69e58bd8d5d23
DTSTAMP:20260420T021344Z
DTSTART:20260911T150000Z
DTEND:20260911T175700Z
LOCATION:
SUMMARY:Kues Cruise Night 11.09.2026
DESCRIPTION:Beim Zylinderhaus in Bernkastel Kues. Jeden 1. Freitag im Monat
 \nhttps://mtc-erbeskopf.de/events/kues-cruise-night-11-09-2026/
URL:https://mtc-erbeskopf.de/events/kues-cruise-night-11-09-2026/
END:VEVENT
END:VCALENDAR