BEGIN:VCALENDAR
VERSION:2.0
PRODID:-//eventon.com NONSGML v1.0//EN
CALSCALE:GREGORIAN
METHOD:PUBLISH
BEGIN:VEVENT
UID:69e58bdf6e9b0
DTSTAMP:20260420T021351Z
DTSTART:20260807T150000Z
DTEND:20260807T175700Z
LOCATION:
SUMMARY:Kues Cruise Night 07.08.2026
DESCRIPTION:Beim Zylinderhaus in Bernkastel Kues. Jeden 1. Freitag im Monat
 \nhttps://mtc-erbeskopf.de/events/kues-cruise-night-07-08-2026/
URL:https://mtc-erbeskopf.de/events/kues-cruise-night-07-08-2026/
END:VEVENT
END:VCALENDAR