BEGIN:VCALENDAR
VERSION:2.0
PRODID:-//eventon.com NONSGML v1.0//EN
CALSCALE:GREGORIAN
METHOD:PUBLISH
BEGIN:VEVENT
UID:69e895dd7d121
DTSTAMP:20260422T093317Z
DTSTART:20260703T150000Z
DTEND:20260703T175700Z
LOCATION:
SUMMARY:Kues Cruise Night 03.07.2026
DESCRIPTION:Beim Zylinderhaus in Bernkastel Kues. Jeden 1. Freitag im Monat
 \nhttps://mtc-erbeskopf.de/events/kues-cruise-night-03-07-2026/
URL:https://mtc-erbeskopf.de/events/kues-cruise-night-03-07-2026/
END:VEVENT
END:VCALENDAR