BEGIN:VCALENDAR
VERSION:2.0
PRODID:-//eventon.com NONSGML v1.0//EN
CALSCALE:GREGORIAN
METHOD:PUBLISH
BEGIN:VEVENT
UID:69e8981a2b9c1
DTSTAMP:20260422T094250Z
DTSTART:20260605T150000Z
DTEND:20260605T175700Z
LOCATION:
SUMMARY:Kues Cruise Night 05.06.2026
DESCRIPTION:Beim Zylinderhaus in Bernkastel Kues. Jeden 1. Freitag im Monat
 \nhttps://mtc-erbeskopf.de/events/kues-cruise-night-05-06-2026/
URL:https://mtc-erbeskopf.de/events/kues-cruise-night-05-06-2026/
END:VEVENT
END:VCALENDAR