BEGIN:VCALENDAR
VERSION:2.0
PRODID:-//eventon.com NONSGML v1.0//EN
CALSCALE:GREGORIAN
METHOD:PUBLISH
BEGIN:VEVENT
UID:69e8945e1cce3
DTSTAMP:20260422T092654Z
DTSTART:20260530
DTEND:20260531
LOCATION:
SUMMARY:2. Oldtimertreffen Oberbexbach
DESCRIPTION:\nhttps://mtc-erbeskopf.de/events/2-oldtimertreffen-oberbexbach
 /
URL:https://mtc-erbeskopf.de/events/2-oldtimertreffen-oberbexbach/
END:VEVENT
END:VCALENDAR