BEGIN:VCALENDAR
VERSION:2.0
PRODID:-//eventon.com NONSGML v1.0//EN
CALSCALE:GREGORIAN
METHOD:PUBLISH
BEGIN:VEVENT
UID:69e58bada6292
DTSTAMP:20260420T021301Z
DTSTART:20260918
DTEND:20260919
LOCATION:
SUMMARY:1000km Golden Ära
DESCRIPTION:[caption id="attachment_4691" align="alignnone" width="300"]  
 [/caption]\nhttps://mtc-erbeskopf.de/events/1000km-golden-aera/
URL:https://mtc-erbeskopf.de/events/1000km-golden-aera/
END:VEVENT
END:VCALENDAR