BEGIN:VCALENDAR
VERSION:2.0
PRODID:-//eventon.com NONSGML v1.0//EN
CALSCALE:GREGORIAN
METHOD:PUBLISH
BEGIN:VEVENT
UID:69e58bdb45083
DTSTAMP:20260420T021347Z
DTSTART:20260822T060000Z
DTEND:20260823T160000Z
LOCATION:
SUMMARY:19. Young- und Oldtimertreffen 2026
DESCRIPTION:Unser Treffen am Festplatz beim Erholungs- und Gesundheitszentr
 um. Weitere Infos folgen\nhttps://mtc-erbeskopf.de/events/19-young-und-oldt
 imertreffen-2026/
URL:https://mtc-erbeskopf.de/events/19-young-und-oldtimertreffen-2026/
END:VEVENT
END:VCALENDAR